BEGIN:VCALENDAR
VERSION:2.0
PRODID:DPCALENDAR
CALSCALE:GREGORIAN
BEGIN:VTIMEZONE
TZID:Europe/Paris
X-MICROSOFT-CDO-TZID:3
BEGIN:STANDARD
DTSTART:20251026T010000
TZOFFSETFROM:+0200
TZOFFSETTO:+0100
TZNAME:CET
END:STANDARD
BEGIN:STANDARD
DTSTART:20261025T010000
TZOFFSETFROM:+0200
TZOFFSETTO:+0100
TZNAME:CET
END:STANDARD
BEGIN:DAYLIGHT
DTSTART:20260329T010000
TZOFFSETFROM:+0100
TZOFFSETTO:+0200
TZNAME:CEST
END:DAYLIGHT
END:VTIMEZONE
X-WR-TIMEZONE:Europe/Paris
BEGIN:VEVENT
DTSTART;VALUE=DATE:20240224
DTEND;VALUE=DATE:20240225
UID:894E90DA-F0CB-4A82-85F2-260254E62867
SUMMARY:une championne olympique au dojo brestois
CREATED:20240220T130717Z
DTSTAMP:20240220T130717Z
URL:https://dojobrestois.fr/le-dojo/lagenda/une-championne-olympique-au-dojo-brestois-2
DESCRIPTION:une championne olympique, 7ème dan, au dojo brestois samedi 24 février.\Ncours de 15h00 à 16h15 pour les enfants de 6 à 12 ans\Ncours de 17h00 à 18h30 pour les adolescents et les adultes \Ngratuit pour les adhérents du dojo , dix € pour les extérieurs\N 
X-ALT-DESC;FMTTYPE=text/html:<p>une championne olympique, 7ème dan, au dojo brestois samedi 24 février.</p><div>cours de 15h00 à 16h15 pour les enfants de 6 à 12 ans</div><div>cours de 17h00 à 18h30 pour les adolescents et les adultes </div><div>gratuit pour les adhérents du dojo , dix € pour les extérieurs</div><div> </div>
X-ACCESS:1
X-HITS:122
X-COLOR:3366cc
X-SHOW-END-TIME:1
END:VEVENT
END:VCALENDAR