BEGIN:VCALENDAR
VERSION:2.0
PRODID:DPCALENDAR
CALSCALE:GREGORIAN
BEGIN:VTIMEZONE
TZID:Europe/Paris
X-MICROSOFT-CDO-TZID:3
BEGIN:STANDARD
DTSTART:20251026T010000
TZOFFSETFROM:+0200
TZOFFSETTO:+0100
TZNAME:CET
END:STANDARD
BEGIN:STANDARD
DTSTART:20261025T010000
TZOFFSETFROM:+0200
TZOFFSETTO:+0100
TZNAME:CET
END:STANDARD
BEGIN:DAYLIGHT
DTSTART:20260329T010000
TZOFFSETFROM:+0100
TZOFFSETTO:+0200
TZNAME:CEST
END:DAYLIGHT
END:VTIMEZONE
X-WR-TIMEZONE:Europe/Paris
BEGIN:VEVENT
DTSTART;VALUE=DATE:20231112
DTEND;VALUE=DATE:20231113
UID:FDA22F5B-8E61-4390-9B61-A3FFFE30A235
SUMMARY:Tournoi de grades
CREATED:20230921T130812Z
DTSTAMP:20230921T130812Z
URL:https://dojobrestois.fr/le-dojo/lagenda/tournoi-de-grades
DESCRIPTION:Pour valider vos passages de ceinture, vous disputez 5 combats.
X-ALT-DESC;FMTTYPE=text/html:<p>Pour valider vos passages de ceinture, vous disputez 5 combats.</p>
LOCATION:
GEO:48.17625340;-2.75356440
X-LOCATION-DISPLAYNAME:France, Bretagne, Côtes-d'Armor, 22600
X-ACCESS:1
X-HITS:281
X-COLOR:3366cc
X-SHOW-END-TIME:1
END:VEVENT
BEGIN:VEVENT
DTSTART;VALUE=DATE:20240121
DTEND;VALUE=DATE:20240122
UID:FAB64C40-18F7-400A-9033-E31B962CEE54
SUMMARY:Tournoi de grades
CREATED:20231002T193204Z
DTSTAMP:20231002T193204Z
URL:https://dojobrestois.fr/le-dojo/lagenda/tournoi-de-grades-2
LAST-MODIFIED:20231002T193321Z
SEQUENCE:77
LOCATION:
GEO:48.15241290;-1.68539800
X-LOCATION-DISPLAYNAME:France, Bretagne, Ille-et-Vilaine, 35760
X-ACCESS:1
X-HITS:183
X-COLOR:3366cc
X-SHOW-END-TIME:1
END:VEVENT
BEGIN:VEVENT
DTSTART;VALUE=DATE:20241117
DTEND;VALUE=DATE:20241118
UID:BFBAF60B-4C21-4B41-8605-02077303AA2C
SUMMARY:Tournoi de grades Passage de ceinture noire
CREATED:20241104T084310Z
DTSTAMP:20241104T084310Z
URL:https://dojobrestois.fr/le-dojo/lagenda/tournoi-de-grades-passage-de-ceinture-noire
DESCRIPTION:\N\N\N\N\N\N\N\N\NHoraires (sous réserve de modification en fonction du nombre d'inscrits, mail envoyé aux clubs le cas échéant).\NDe 08 h 45 à 09 h 30 – Confirmation des inscriptions pour les :CM Cadets 3ème année (nés en 2008)/Juniors/Seniors et les CM + 40 ans Masculins (nés en 1984 et avant)\NDe 11 h 00 à 12 h 00 – Confirmation des inscriptions pour : \NCM Cadets 1ère et 2ème année (nés en 2010 et 2009).Les candidats à l’accession au 2ème, 3ème dan – 40 ans et + 40 ans masculins (nés en 1984 et avant) et les cadets candidats à l’accession au 2ème.\NDe 15 h 00 à 15 h 45 – Confirmation des inscriptions pour les :Toutes les féminines (cadettes à seniors. Grades postulés: 1er, 2ème, 3ème dan )\NClôture des inscriptions le mercredi 13 novembre 2024 à minuit. Aucune inscription ne sera prise sur place.\N \N \N \NLien Helloasso pour les candidats licenciés dans une autre ligue que la Bretagne :\Nhttps://www.helloasso.com/associations/ligue-de-bretagne-de-judo/adhesions/engagements-tec\NLes candidats ne doivent se présenter aux confirmations d'inscriptions seulement après avoir vérifié qu'ils apparaissent bien sur la liste d'inscrits sur extranet et affichée sur place.\NPour tous les grades, les poules seront auto-arbitrées par les combattants.\NLes candidats au 1er et 2ème dan licenciés en Bretagne valideront ainsi une demi-journée pour l'obtention de UV4.\N \N \N\N\N \N\N\N\N\N\N\N\N \N\N\N\N\N\N\N \N\N\N\N\N\N
X-ALT-DESC;FMTTYPE=text/html:<div><div id="ctl00_ContentPlaceContent_pbarEvent" class="RadPanelBar RadPanelBar_MetroTouch"><ul class="rpRootGroup"><li class="rpItem rpFirst rpLast"><div class="rpSlide"><div class="rpTemplate"><div><div><div><h2><strong>Horaires (sous réserve de modification en fonction du nombre d'inscrits, mail envoyé aux clubs le cas échéant).</strong></h2><p><strong>De 08 h 45 à 09 h 30 – Confirmation des inscriptions pour les :</strong><br />CM Cadets 3ème année (nés en 2008)/Juniors/Seniors et les CM + 40 ans Masculins (nés en 1984 et avant)</p><p><strong>De 11 h 00 à 12 h 00 – Confirmation des inscriptions pour : </strong></p><p>CM Cadets 1ère et 2ème année (nés en 2010 et 2009).<br />Les candidats à l’accession au 2ème, 3ème dan – 40 ans et + 40 ans masculins (nés en 1984 et avant) et les cadets candidats à l’accession au 2ème.</p><p><strong>De 15 h 00 à 15 h 45 – Confirmation des inscriptions pour les :</strong><br />Toutes les féminines (cadettes à seniors. Grades postulés: 1er, 2ème, 3ème dan )</p><p>Clôture des inscriptions le mercredi 13 novembre 2024 à minuit. Aucune inscription ne sera prise sur place.</p><p> </p><p> </p><p> </p><p><strong><em>Lien Helloasso pour les candidats licenciés dans une autre ligue que la Bretagne</em></strong> :</p><p><a tabindex="9999" href="https://www.helloasso.com/associations/ligue-de-bretagne-de-judo/adhesions/engagements-tec" target="_blank" rel="noopener">https://www.helloasso.com/associations/ligue-de-bretagne-de-judo/adhesions/engagements-tec</a></p><p><strong>Les candidats ne doivent se présenter aux confirmations d'inscriptions seulement après avoir vérifié qu'ils apparaissent bien sur la liste d'inscrits sur extranet et affichée sur place.</strong></p><p><strong>Pour tous les grades, les poules seront auto-arbitrées par les combattants.</strong></p><p><strong>Les candidats au 1er et 2ème dan licenciés en Bretagne valideront ainsi une demi-journée pour l'obtention de UV4.</strong></p><p><strong> </strong></p><p><strong><em> </em></strong></p></div></div><div> </div></div></div></div></li></ul></div></div><div> </div><div id="ctl00_ctl00_ContentPlaceContent_divInscPanel" class="RadAjaxPanel"><div id="ContentPlaceContent_divInsc"><div><div id="ctl00_ContentPlaceContent_RadTabStrip1" class="RadTabStrip RadTabStrip_BlackMetroTouch RadTabStripTop_BlackMetroTouch RadTabStripTop RadTabStripTop_BlackMetroTouch_Baseline"><div class="rtsLevel rtsLevel1"><ul class="rtsUL"><li class="rtsLI rtsFirst"> </li></ul></div></div></div></div></div>
LAST-MODIFIED:20241104T084325Z
SEQUENCE:15
LOCATION:Rue des Livaudières\, 22600 Loudéac\, Bretagne\, France
GEO:48.18662210;-2.75152171
X-LOCATION-DISPLAYNAME:Palais des sports
X-ACCESS:1
X-HITS:384
X-COLOR:3366cc
X-SHOW-END-TIME:1
END:VEVENT
BEGIN:VEVENT
DTSTART;VALUE=DATE:20250119
DTEND;VALUE=DATE:20250120
UID:6619E85A-32EB-4F82-AB50-FFD706C7E649
SUMMARY:Tournoi de grades, ceintures marrons et toutes les ceintures noires
CREATED:20250103T075117Z
DTSTAMP:20250103T075117Z
URL:https://dojobrestois.fr/le-dojo/lagenda/tournoi-de-grades-ceintures-marrons-et-toutes-les-ceintures-noires
DESCRIPTION:De 08 h 45 à 09 h 30 – Confirmation des inscriptions pour les :\NCM Cadets 1ère et 2ème année (nés en 2009 et 2010).\N \NDe 11 h 00 à 12 h 00 – Confirmation des inscriptions pour : \NCM Cadets 3ème année (nés en 2008)/Juniors/Seniors et les CM + 40 ans Masculins (nés en 1985 et avant)\N \NDe 14h00 à 14h45 confirmation des inscriptions pour :\NLes candidats à l’accession au 2ème, 3ème et 4ème dan – 40 ans et + 40 ans masculins (nés en 1984 et avant) et les cadets candidats à l’accession au 2ème.\N \NDe 15 h 30 à 16 h 15 – Confirmation des inscriptions pour les :Toutes les féminines (cadettes à seniors. Grades postulés: 1er, 2ème, 3ème et 4ème dan )\NClôture des inscriptions le mercredi 15 janvier 2025 à minuit. Aucune inscription ne sera prise sur place.\NLes candidats ne doivent se présenter aux confirmations d'inscriptions seulement après avoir vérifié qu'ils apparaissent bien sur la liste d'inscrits sur extranet.\NPour tous les grades, les poules seront auto-arbitrées par les combattants.\NLes candidats pour le 1er et le 2ème dan valideront ainsi une 1/2 journée pratique de l'UV4.
X-ALT-DESC;FMTTYPE=text/html:<p><strong>De 08 h 45 à 09 h 30 – Confirmation des inscriptions pour les :</strong></p><p>CM Cadets 1ère et 2ème année (nés en 2009 et 2010).</p><p> </p><p><strong>De 11 h 00 à 12 h 00 – Confirmation des inscriptions pour : </strong></p><p>CM Cadets 3ème année (nés en 2008)/Juniors/Seniors et les CM + 40 ans Masculins (nés en 1985 et avant)</p><p> </p><p><strong>De 14h00 à 14h45 confirmation des inscriptions pour :</strong></p><p>Les candidats à l’accession au 2ème, 3ème et 4ème dan – 40 ans et + 40 ans masculins (nés en 1984 et avant) et les cadets candidats à l’accession au 2ème.</p><p> </p><p><strong>De 15 h 30 à 16 h 15 – Confirmation des inscriptions pour les :</strong><br />Toutes les féminines (cadettes à seniors. Grades postulés: 1er, 2ème, 3ème et 4ème dan )</p><p>Clôture des inscriptions le mercredi 15 janvier 2025 à minuit. Aucune inscription ne sera prise sur place.</p><p><strong>Les candidats ne doivent se présenter aux confirmations d'inscriptions seulement après avoir vérifié qu'ils apparaissent bien sur la liste d'inscrits sur extranet.</strong></p><p><strong>Pour tous les grades, les poules seront auto-arbitrées par les combattants.</strong></p><p><strong>Les candidats pour le 1er et le 2ème dan valideront ainsi une 1/2 journée pratique de l'UV4.</strong></p>
LAST-MODIFIED:20250106T203009Z
SEQUENCE:304732
LOCATION:Chemin de la Métairie\, 35740 Pacé\, Bretagne\, France
GEO:48.14657260;-1.77289970
X-LOCATION-DISPLAYNAME:Pacé
X-ACCESS:1
X-HITS:154
X-COLOR:3366cc
X-SHOW-END-TIME:1
END:VEVENT
END:VCALENDAR