BEGIN:VCALENDAR
VERSION:2.0
PRODID:DPCALENDAR
CALSCALE:GREGORIAN
BEGIN:VTIMEZONE
TZID:Europe/Paris
X-MICROSOFT-CDO-TZID:3
BEGIN:STANDARD
DTSTART:20251026T010000
TZOFFSETFROM:+0200
TZOFFSETTO:+0100
TZNAME:CET
END:STANDARD
BEGIN:STANDARD
DTSTART:20261025T010000
TZOFFSETFROM:+0200
TZOFFSETTO:+0100
TZNAME:CET
END:STANDARD
BEGIN:DAYLIGHT
DTSTART:20260329T010000
TZOFFSETFROM:+0100
TZOFFSETTO:+0200
TZNAME:CEST
END:DAYLIGHT
END:VTIMEZONE
X-WR-TIMEZONE:Europe/Paris
BEGIN:VEVENT
DTSTART;VALUE=DATE:20231118
DTEND;VALUE=DATE:20231119
UID:4D2D4DD6-9617-4120-89DE-94D1D3418934
SUMMARY:ecole d'arbitrage
CREATED:20231019T154227Z
DTSTAMP:20231019T154227Z
URL:https://dojobrestois.fr/le-dojo/lagenda/ecole-darbitrage
DESCRIPTION:indispensable pour valider sa ceinture noire\N9h00 à midi
X-ALT-DESC;FMTTYPE=text/html:<p>indispensable pour valider sa ceinture noire</p><p>9h00 à midi</p>
LAST-MODIFIED:20231019T154256Z
SEQUENCE:29
LOCATION:
GEO:48.47174300;-4.22765903
X-LOCATION-DISPLAYNAME:France, 29800
X-ACCESS:1
X-HITS:220
X-COLOR:bababa
X-SHOW-END-TIME:1
END:VEVENT
BEGIN:VEVENT
DTSTART;VALUE=DATE:20231209
DTEND;VALUE=DATE:20231210
UID:2E97093F-3A3B-4C8D-A759-2A673F5B443B
SUMMARY:examen uv 2 pour 1er et 2ème dan
CREATED:20231120T141029Z
DTSTAMP:20231120T141029Z
URL:https://dojobrestois.fr/le-dojo/lagenda/examen-uv-2-pour-1er-et-2eme-dan
DESCRIPTION:50 techniques à connaître pour les candidats.\N14h00
X-ALT-DESC;FMTTYPE=text/html:<p>50 techniques à connaître pour les candidats.</p><p>14h00</p>
LAST-MODIFIED:20231120T141411Z
SEQUENCE:222
LOCATION:
GEO:47.89454020;-4.01153650
X-LOCATION-DISPLAYNAME:France, Bretagne, Finistère, 29170
X-ACCESS:1
X-HITS:284
X-COLOR:bababa
X-SHOW-END-TIME:1
END:VEVENT
END:VCALENDAR