BEGIN:VCALENDAR
VERSION:2.0
PRODID:DPCALENDAR
CALSCALE:GREGORIAN
BEGIN:VTIMEZONE
TZID:Europe/Paris
X-MICROSOFT-CDO-TZID:3
BEGIN:STANDARD
DTSTART:20251026T010000
TZOFFSETFROM:+0200
TZOFFSETTO:+0100
TZNAME:CET
END:STANDARD
BEGIN:STANDARD
DTSTART:20261025T010000
TZOFFSETFROM:+0200
TZOFFSETTO:+0100
TZNAME:CET
END:STANDARD
BEGIN:DAYLIGHT
DTSTART:20260329T010000
TZOFFSETFROM:+0100
TZOFFSETTO:+0200
TZNAME:CEST
END:DAYLIGHT
END:VTIMEZONE
X-WR-TIMEZONE:Europe/Paris
BEGIN:VEVENT
DTSTART;VALUE=DATE:20250309
DTEND;VALUE=DATE:20250310
UID:D5B4DD89-313E-4085-B503-75EB8BEC195C
SUMMARY:championnat de Bretagne individuel junior
CREATED:20250103T075915Z
DTSTAMP:20250103T075915Z
URL:https://dojobrestois.fr/le-dojo/lagenda/championnat-de-bretagne-individuel-junior-2
LAST-MODIFIED:20250204T104440Z
SEQUENCE:2774725
LOCATION:
GEO:47.95926840;-3.82784590
X-LOCATION-DISPLAYNAME:France, Bretagne, Finistère, 29140
X-ACCESS:1
X-HITS:206
X-COLOR:2148a3
X-SHOW-END-TIME:1
END:VEVENT
BEGIN:VEVENT
DTSTART;VALUE=DATE:20251004
DTEND;VALUE=DATE:20251005
UID:7C645919-9A6F-4C60-B9A7-362F294C5409
SUMMARY:entrainement départemental
CREATED:20250926T123556Z
DTSTAMP:20250926T123556Z
URL:https://dojobrestois.fr/le-dojo/lagenda/enrtainement-departemental
DESCRIPTION:De cadets à seniors, un entraînement inter clubs.\N16h30 à 18h30.
X-ALT-DESC;FMTTYPE=text/html:<p>De cadets à seniors, un entraînement inter clubs.</p><p>16h30 à 18h30.</p>
LAST-MODIFIED:20250926T123638Z
SEQUENCE:42
LOCATION:Rue de Mézéozen\, 29870 Lannilis\, Bretagne\, France
GEO:48.57661360;-4.51544280
X-LOCATION-DISPLAYNAME:Mezeozen
X-ACCESS:1
X-HITS:154
X-COLOR:2148a3
X-SHOW-END-TIME:1
END:VEVENT
BEGIN:VEVENT
DTSTART;VALUE=DATE:20251015
DTEND;VALUE=DATE:20251019
UID:EAF8D026-C352-4AAF-9646-567A3FDDC1F6
SUMMARY:Tatsuto SHIMA au dojo brestois et au kiai club brest
CREATED:20250918T171327Z
DTSTAMP:20250918T171327Z
URL:https://dojobrestois.fr/le-dojo/lagenda/tatsuto-shima-au-dojo-brestois-et-au-kiai-club-brest
DESCRIPTION:Tatsuto sera présent sur 4 jours.\N 
X-ALT-DESC;FMTTYPE=text/html:<p>Tatsuto sera présent sur 4 jours.</p><p> </p>
LAST-MODIFIED:20250918T171340Z
SEQUENCE:13
X-ACCESS:1
X-HITS:185
X-COLOR:2148a3
X-SHOW-END-TIME:1
END:VEVENT
BEGIN:VEVENT
DTSTART;VALUE=DATE:20260315
DTEND;VALUE=DATE:20260316
UID:67C2EFC7-FC8D-4B32-A53F-7F06FFF1F12F
SUMMARY:championnat de Bretagne individuel junior
CREATED:20260212T160746Z
DTSTAMP:20260212T160746Z
URL:https://dojobrestois.fr/le-dojo/lagenda/championnat-de-bretagne-individuel-junior-3
LAST-MODIFIED:20260212T160746Z
SEQUENCE:0
LOCATION:
GEO:47.95926840;-3.82784590
X-LOCATION-DISPLAYNAME:France, Bretagne, Finistère, 29140
X-ACCESS:1
X-HITS:106
X-COLOR:2148a3
X-SHOW-END-TIME:1
END:VEVENT
END:VCALENDAR