BEGIN:VCALENDAR
VERSION:2.0
PRODID:DPCALENDAR
CALSCALE:GREGORIAN
BEGIN:VTIMEZONE
TZID:Europe/Paris
X-MICROSOFT-CDO-TZID:3
BEGIN:STANDARD
DTSTART:20251026T010000
TZOFFSETFROM:+0200
TZOFFSETTO:+0100
TZNAME:CET
END:STANDARD
BEGIN:STANDARD
DTSTART:20261025T010000
TZOFFSETFROM:+0200
TZOFFSETTO:+0100
TZNAME:CET
END:STANDARD
BEGIN:DAYLIGHT
DTSTART:20260329T010000
TZOFFSETFROM:+0100
TZOFFSETTO:+0200
TZNAME:CEST
END:DAYLIGHT
END:VTIMEZONE
X-WR-TIMEZONE:Europe/Paris
BEGIN:VEVENT
DTSTART;VALUE=DATE:20231014
DTEND;VALUE=DATE:20231015
UID:6897020B-5D92-4316-8937-4E01B9EC4005
SUMMARY:tournoi national cadet A
CREATED:20230925T132703Z
DTSTAMP:20230925T132703Z
URL:https://dojobrestois.fr/le-dojo/lagenda/tournoi-national-cadet-a
DESCRIPTION:Tournoi national cadets A
X-ALT-DESC;FMTTYPE=text/html:<p>Tournoi national cadets A</p>
LAST-MODIFIED:20230925T132710Z
SEQUENCE:7
X-ACCESS:1
X-HITS:252
X-COLOR:42cc33
X-SHOW-END-TIME:1
END:VEVENT
BEGIN:VEVENT
DTSTART;VALUE=DATE:20240127
DTEND;VALUE=DATE:20240128
UID:E34F675B-8675-4F56-A7F9-5B264537E766
SUMMARY:championnat Finistère individuel cadets
CREATED:20231019T152847Z
DTSTAMP:20231019T152847Z
URL:https://dojobrestois.fr/le-dojo/lagenda/championnat-finistere-individuel-cadets
DESCRIPTION:Championnat du Finistère individuel cadets
X-ALT-DESC;FMTTYPE=text/html:<p>Championnat du Finistère individuel cadets</p>
LAST-MODIFIED:20231120T140648Z
SEQUENCE:2759881
LOCATION:
GEO:48.43284510;-4.62298200
X-LOCATION-DISPLAYNAME:France, Bretagne, Finistère, 29290
X-ACCESS:1
X-HITS:237
X-COLOR:42cc33
X-SHOW-END-TIME:1
END:VEVENT
BEGIN:VEVENT
DTSTART;VALUE=DATE:20240217
DTEND;VALUE=DATE:20240218
UID:9A1771C1-9954-4262-890F-7B910D9669B8
SUMMARY:championnat Bretagne par équipes cadet
CREATED:20231002T193754Z
DTSTAMP:20231002T193754Z
URL:https://dojobrestois.fr/le-dojo/lagenda/championnat-bretagne-par-equipes-cadet
DESCRIPTION:+55, -60 -66 -73 plus 73
X-ALT-DESC;FMTTYPE=text/html:<p>+55, -60 -66 -73 plus 73</p>
LOCATION:
GEO:48.49910000;-2.70959000
X-LOCATION-DISPLAYNAME:France, Bretagne, Côtes-d'Armor, 22360
X-ACCESS:1
X-HITS:230
X-COLOR:42cc33
X-SHOW-END-TIME:1
END:VEVENT
BEGIN:VEVENT
DTSTART;VALUE=DATE:20240317
DTEND;VALUE=DATE:20240318
UID:AB41A1FB-BF17-47A0-9B52-7E07DB86F744
SUMMARY:Championnats de Bretagne cadets 1ère division
CREATED:20240203T094202Z
DTSTAMP:20240203T094202Z
URL:https://dojobrestois.fr/le-dojo/lagenda/championnats-de-bretagne-cadets-1ere-division
DESCRIPTION:Championnat de Bretagne cadets 1ère division\Nqualifiés\NNoe BLIN  -50\NCharlie MEMBOEUF     -81
X-ALT-DESC;FMTTYPE=text/html:<p>Championnat de Bretagne cadets 1ère division</p><p>qualifiés</p><p>Noe BLIN  -50</p><p>Charlie MEMBOEUF     -81</p>
LAST-MODIFIED:20240220T132903Z
SEQUENCE:1482421
LOCATION:
GEO:47.84143770;-1.68522290
X-LOCATION-DISPLAYNAME:France, Bretagne, Ille-et-Vilaine, 35470
X-ACCESS:1
X-HITS:194
X-COLOR:42cc33
X-SHOW-END-TIME:1
END:VEVENT
BEGIN:VEVENT
DTSTART;VALUE=DATE:20240407
DTEND;VALUE=DATE:20240408
UID:FF675583-8F2E-4E0C-9110-BFF02D6CF0A7
SUMMARY:coupe de Bretagne individuel cadet
CREATED:20240320T092301Z
DTSTAMP:20240320T092301Z
URL:https://dojobrestois.fr/le-dojo/lagenda/coupe-de-bretagne-individuel-cadet
DESCRIPTION:Les cadets nés en 2007 et 2008 combattent ensemble.\NLes cadets nés en 2009 combattent ensemble.
X-ALT-DESC;FMTTYPE=text/html:<p>Les cadets nés en 2007 et 2008 combattent ensemble.</p><p>Les cadets nés en 2009 combattent ensemble.</p>
LAST-MODIFIED:20240320T101946Z
SEQUENCE:3405
LOCATION:
GEO:47.84143770;-1.68522290
X-LOCATION-DISPLAYNAME:France, Bretagne, Ille-et-Vilaine, 35470
X-ACCESS:1
X-HITS:172
X-COLOR:42cc33
X-SHOW-END-TIME:1
END:VEVENT
BEGIN:VEVENT
DTSTART;VALUE=DATE:20240508
DTEND;VALUE=DATE:20240509
UID:735DDE84-2FD0-48F3-AEA1-E5A22045A6B4
SUMMARY:cours annulés 
CREATED:20240506T085120Z
DTSTAMP:20240506T085120Z
URL:https://dojobrestois.fr/le-dojo/lagenda/cours-annules
DESCRIPTION:cours annulés en judo aikido et mma.
X-ALT-DESC;FMTTYPE=text/html:<p>cours annulés en judo aikido et mma.</p>
LOCATION:Rue du Chateau 51\, 29200 Brest\, France
GEO:48.38739900;-4.48562400
X-LOCATION-DISPLAYNAME:Dojo Brestois
X-ACCESS:1
X-HITS:147
X-COLOR:42cc33
X-SHOW-END-TIME:1
END:VEVENT
BEGIN:VEVENT
DTSTART;VALUE=DATE:20240509
DTEND;VALUE=DATE:20240510
UID:0EE4F189-0796-461F-BD3F-B99D9BC7BF1B
SUMMARY:cours annulés sauf en aiki taiso et tanren
CREATED:20240506T085236Z
DTSTAMP:20240506T085236Z
URL:https://dojobrestois.fr/le-dojo/lagenda/cours-annules-sauf-en-aiki-taiso-et-tanren
LAST-MODIFIED:20240506T085255Z
SEQUENCE:19
LOCATION:Rue du Chateau 51\, 29200 Brest\, France
GEO:48.38739900;-4.48562400
X-LOCATION-DISPLAYNAME:Dojo Brestois
X-ACCESS:1
X-HITS:140
X-COLOR:42cc33
X-SHOW-END-TIME:1
END:VEVENT
BEGIN:VEVENT
DTSTART;VALUE=DATE:20241215
DTEND;VALUE=DATE:20241216
UID:96F4CADC-7330-45D0-AB67-12D5A37FDDC3
SUMMARY:championnat Finistère individuel cadet
CREATED:20241119T192528Z
DTSTAMP:20241119T192528Z
URL:https://dojobrestois.fr/le-dojo/lagenda/championnat-finistere-individuel-cadet
DESCRIPTION:COMPETITION / INDIVIDUELLE / Cadet - Années de naissance : 2008 ->2010 - Couleurs de ceintures : Verte -> Noire\NLe 15/12/2024 - Saison 2024/2025\NSALLE MULTISPORTS PLAINE DES SPORTS128 RUE LAENNEC 29100, DOUARNENEZ\NContact :Téléphone : - Email : - Site web :\N\NPesée:\NMasculins : 9h/9h30 : -46kgs / -50kgs / -55kgs / -60kgs\NFéminines : 10h30/11h : -40kgs / -44kgs / -48kgs / -52kgs / -57kgs\NMasculins : 12h30/13h : -66kgs / -73kgs \NFéminines : 13h30/14h : -63kgs / -70kgs / +70kgs \NMasculins : 14h/14h30 : -81kgs / -90kgs / +90kgs \N
X-ALT-DESC;FMTTYPE=text/html:<div><span id="ctl00_ContentPlaceContent_pbarEvent_i0_lbCompetition">COMPETITION / INDIVIDUELLE / <b>Cadet</b> - Années de naissance : <b>2008 -&gt;2010</b> - Couleurs de ceintures : <b>Verte -&gt; Noire</b></span></div><div><span id="ctl00_ContentPlaceContent_pbarEvent_i0_lbDate">Le 15/12/2024 - <b>Saison 2024/2025</b></span></div><div><span id="ctl00_ContentPlaceContent_pbarEvent_i0_lbLieu">SALLE MULTISPORTS PLAINE DES SPORTS</span><br /><span id="ctl00_ContentPlaceContent_pbarEvent_i0_lbAdresse">128 RUE LAENNEC 29100, DOUARNENEZ</span></div><div>Contact :<span id="ctl00_ContentPlaceContent_pbarEvent_i0_lbContact"><br />Téléphone : - Email : - Site web :</span></div><div><p>Pesée:</p><p>Masculins : 9h/9h30 : -46kgs / -50kgs / -55kgs / -60kgs</p><p>Féminines : 10h30/11h : -40kgs / -44kgs / -48kgs / -52kgs / -57kgs</p><p>Masculins : 12h30/13h : -66kgs / -73kgs </p><p>Féminines : 13h30/14h : -63kgs / -70kgs / +70kgs </p><p>Masculins : 14h/14h30 : -81kgs / -90kgs / +90kgs </p></div>
LAST-MODIFIED:20241129T144326Z
SEQUENCE:847078
LOCATION:Rue Laënnec\, 29100 Douarnenez\, Bretagne\, France
GEO:48.08762130;-4.32418190
X-LOCATION-DISPLAYNAME:Laennec
X-ACCESS:1
X-HITS:208
X-COLOR:42cc33
X-SHOW-END-TIME:1
END:VEVENT
BEGIN:VEVENT
DTSTART;VALUE=DATE:20250208
DTEND;VALUE=DATE:20250209
UID:FDE188E8-FE0D-4C85-83BB-196960125AC9
SUMMARY:championnat de Bretagne individuel cadet 1ere division
CREATED:20250103T075549Z
DTSTAMP:20250103T075549Z
URL:https://dojobrestois.fr/le-dojo/lagenda/championnat-de-bretagne-individuel-cadet-1ere-division
DESCRIPTION:    COMPETITION / INDIVIDUELLE / HORS CATEGORIE - Années de naissance : 1907 ->2023 - Couleurs de ceintures : Blanche -> Noire\NLe 08/02/2025 - Saison 2024/2025\NCENTRE REGIONAL DES ARTS MARTIAUXRUE P DE COUBERTIN 56800, PLOERMEL\NContact : MARGAUX POYARD DTRTéléphone : - Email : margaux.poyard@ffjudo.com - Site web : Site web\N\N5 surfaces de combats\NPesées : \NCadets : \Nde 09 h 00 à 09 h 45 : - 46 kg, - 50 kg, - 55 kg, – 60 kg et – 66 kg (4 ateliers pesées) \Nde 10 h 30 à 11 h 30 : - 73 kg, - 81 kg, 90 kg et + 90 kg (2 ateliers pesées).\NCadette :\Nde 10 h 30 à 11 h 30 : -40 kg, - 44 kg, – 48 kg, et – 52 kg (2 ateliers pesées).de 12 h 30 à 13 h 30 : – 57 kg, - 63 kg, - 70 kg et + 70 kg(2 ateliers pesées) .Débutant prévisionnel :10 h 15 Fin prévisionnel : 16 h 45\N
X-ALT-DESC;FMTTYPE=text/html:    <div><span id="ctl00_ContentPlaceContent_pbarEvent_i0_lbCompetition">COMPETITION / INDIVIDUELLE / <strong>HORS CATEGORIE</strong> - Années de naissance : <strong>1907 -&gt;2023</strong> - Couleurs de ceintures : <strong>Blanche -&gt; Noire</strong></span></div><div><span id="ctl00_ContentPlaceContent_pbarEvent_i0_lbDate">Le 08/02/2025 - <strong>Saison 2024/2025</strong></span></div><div><span id="ctl00_ContentPlaceContent_pbarEvent_i0_lbLieu">CENTRE REGIONAL DES ARTS MARTIAUX</span><br /><span id="ctl00_ContentPlaceContent_pbarEvent_i0_lbAdresse">RUE P DE COUBERTIN 56800, PLOERMEL</span></div><div>Contact : <span id="ctl00_ContentPlaceContent_pbarEvent_i0_lbContact"><strong>MARGAUX POYARD DTR</strong><br />Téléphone : - Email : <strong>margaux.poyard@ffjudo.com</strong> - Site web : <strong>Site web</strong></span></div><div><p>5 surfaces de combats</p><p>Pesées : </p><p>Cadets : </p><p>de 09 h 00 à 09 h 45 : - 46 kg, - 50 kg, - 55 kg, – 60 kg et – 66 kg (4 ateliers pesées) </p><p>de 10 h 30 à 11 h 30 : - 73 kg, - 81 kg, 90 kg et + 90 kg (2 ateliers pesées).</p><p>Cadette :</p><p>de 10 h 30 à 11 h 30 : -40 kg, - 44 kg, – 48 kg, et – 52 kg (2 ateliers pesées).<br />de 12 h 30 à 13 h 30 : – 57 kg, - 63 kg, - 70 kg et + 70 kg(2 ateliers pesées) .<br />Débutant prévisionnel :10 h 15 Fin prévisionnel : 16 h 45</p></div>
LAST-MODIFIED:20250210T201001Z
SEQUENCE:3327252
LOCATION:Rue Jagotière\, 56800 Ploërmel\, Bretagne\, France
GEO:47.93237860;-2.39808000
X-LOCATION-DISPLAYNAME:Ploërmel
X-ACCESS:1
X-HITS:173
X-COLOR:42cc33
X-SHOW-END-TIME:1
END:VEVENT
BEGIN:VEVENT
DTSTART;VALUE=DATE:20250316
DTEND;VALUE=DATE:20250317
UID:A0650DC7-B29C-4A9E-AC80-96073F657B08
SUMMARY:championnat de Bretagne individuel cadets 2eme division et critérium
CREATED:20250103T080046Z
DTSTAMP:20250103T080046Z
URL:https://dojobrestois.fr/le-dojo/lagenda/championnat-de-bretagne-individuel-cadets-2eme-division
DESCRIPTION:        
X-ALT-DESC;FMTTYPE=text/html:        
LAST-MODIFIED:20250310T085934Z
SEQUENCE:5705928
LOCATION:
GEO:48.18629850;-3.81285920
X-LOCATION-DISPLAYNAME:France, Bretagne, Finistère, 29520
X-ACCESS:1
X-HITS:172
X-COLOR:42cc33
X-SHOW-END-TIME:1
END:VEVENT
BEGIN:VEVENT
DTSTART;VALUE=DATE:20250426
DTEND;VALUE=DATE:20250427
UID:8477A5F5-5F9A-48AF-B1AE-1A9417335990
SUMMARY:championnat de Bretagne par équipe cadets
CREATED:20250204T100524Z
DTSTAMP:20250204T100524Z
URL:https://dojobrestois.fr/le-dojo/lagenda/championnat-de-bretagne-par-equipe-cadets
DESCRIPTION:55, 60 66 73 et plus 73
X-ALT-DESC;FMTTYPE=text/html:<p>55, 60 66 73 et plus 73</p>
LAST-MODIFIED:20250204T100524Z
SEQUENCE:0
LOCATION:Rue Jagotière\, 56800 Ploërmel\, Bretagne\, France
GEO:47.93237860;-2.39808000
X-LOCATION-DISPLAYNAME:Ploërmel
X-ACCESS:1
X-HITS:266
X-COLOR:42cc33
X-SHOW-END-TIME:1
END:VEVENT
BEGIN:VEVENT
DTSTART;VALUE=DATE:20250927
DTEND;VALUE=DATE:20250928
UID:2481880D-1CE7-405A-8F20-8B4C77800C50
SUMMARY:tournoi national cadets
CREATED:20250918T170712Z
DTSTAMP:20250918T170712Z
URL:https://dojobrestois.fr/le-dojo/lagenda/tournoi-national-cadets
DESCRIPTION:Tournoi national cadet
X-ALT-DESC;FMTTYPE=text/html:<p>Tournoi national cadet</p>
LAST-MODIFIED:20250918T170712Z
SEQUENCE:0
LOCATION:Rue de Beausoleil\, 22400 Lamballe-Armor\, Bretagne\, France
GEO:48.46229540;-2.53859200
X-LOCATION-DISPLAYNAME:Lamballe
X-ACCESS:1
X-HITS:159
X-COLOR:42cc33
X-SHOW-END-TIME:1
END:VEVENT
BEGIN:VEVENT
DTSTART;VALUE=DATE:20260125
DTEND;VALUE=DATE:20260126
UID:8A8A0912-E13A-425D-9F52-6A8B27F426C4
SUMMARY:championnat du Finistère  individuel cadet 
CREATED:20251118T081220Z
DTSTAMP:20251118T081220Z
URL:https://dojobrestois.fr/le-dojo/lagenda/championnat-du-finistere-individuel-cadet
LAST-MODIFIED:20251118T081220Z
SEQUENCE:0
X-ACCESS:1
X-HITS:267
X-COLOR:42cc33
X-SHOW-END-TIME:1
END:VEVENT
BEGIN:VEVENT
DTSTART;VALUE=DATE:20260125
DTEND;VALUE=DATE:20260126
UID:3E30AC85-AAEA-45E9-9483-1A34AAEC632D
SUMMARY:championnat du Finistère individuel cadet
CREATED:20251212T101358Z
DTSTAMP:20251212T101358Z
URL:https://dojobrestois.fr/le-dojo/lagenda/championnat-du-finistere-individuel-cadet-2
DESCRIPTION:Les points comptent pour la ceinture noire.\NLes5 premiers de chaque catégorie sont sélectionnés pour le championnat de Bretagne individuel cadet.
X-ALT-DESC;FMTTYPE=text/html:<p>Les points comptent pour la ceinture noire.</p><p>Les5 premiers de chaque catégorie sont sélectionnés pour le championnat de Bretagne individuel cadet.</p>
LAST-MODIFIED:20251212T101402Z
SEQUENCE:4
LOCATION:Route de Saint-Renan\, 29280 Plouzané\, Bretagne\, France
GEO:48.38171650;-4.62120440
X-LOCATION-DISPLAYNAME:Plouzané
X-ACCESS:1
X-HITS:375
X-COLOR:42cc33
X-SHOW-END-TIME:1
END:VEVENT
END:VCALENDAR