BEGIN:VCALENDAR
VERSION:2.0
PRODID:DPCALENDAR
CALSCALE:GREGORIAN
BEGIN:VTIMEZONE
TZID:Europe/Paris
X-MICROSOFT-CDO-TZID:3
BEGIN:STANDARD
DTSTART:20251026T010000
TZOFFSETFROM:+0200
TZOFFSETTO:+0100
TZNAME:CET
END:STANDARD
BEGIN:STANDARD
DTSTART:20261025T010000
TZOFFSETFROM:+0200
TZOFFSETTO:+0100
TZNAME:CET
END:STANDARD
BEGIN:DAYLIGHT
DTSTART:20260329T010000
TZOFFSETFROM:+0100
TZOFFSETTO:+0200
TZNAME:CEST
END:DAYLIGHT
END:VTIMEZONE
X-WR-TIMEZONE:Europe/Paris
BEGIN:VEVENT
DTSTART;VALUE=DATE:20231111
DTEND;VALUE=DATE:20231112
UID:D79C37A6-A435-4066-A894-858435082E84
SUMMARY:samedi 11 novembre
CREATED:20231108T095638Z
DTSTAMP:20231108T095638Z
URL:https://dojobrestois.fr/le-dojo/lagenda/samedi-11-novembre
DESCRIPTION:Pas de cours ce samedi, possibilité de rattraper vos cours vendredi à 17h15, 18h30 ou dimanche matin 9h30.\NSelon votre àge.
X-ALT-DESC;FMTTYPE=text/html:<p>Pas de cours ce samedi, possibilité de rattraper vos cours vendredi à 17h15, 18h30 ou dimanche matin 9h30.</p><p>Selon votre àge.</p>
LOCATION:Rue du Chateau 51\, 29200 Brest\, France
GEO:48.38739900;-4.48562400
X-LOCATION-DISPLAYNAME:Dojo Brestois
X-ACCESS:1
X-HITS:203
X-COLOR:cc7533
X-SHOW-END-TIME:1
END:VEVENT
BEGIN:VEVENT
DTSTART;VALUE=DATE:20231210
DTEND;VALUE=DATE:20231211
UID:B32FAD89-4443-4F3D-8561-F440EF1180E9
SUMMARY:Tournoi minimes départemental 1
CREATED:20230921T130322Z
DTSTAMP:20230921T130322Z
URL:https://dojobrestois.fr/le-dojo/lagenda/tournoi-minimes-departemental
DESCRIPTION:les minimes sont placés par poules de 4.\NC'est une phase de sélection pour les championnats du Finistère.\Narrivée 15 minutes avant le début de pesée.\Ncasse croûte, eau, survêtement, zooris ou claquettes indispensables\Nsur place entre deux et trois heures\NMINIMES:\N \N8h45 à 9h15: -34kgs,-38 kgs,-42 kgs,-46 kgs. masculins\N \N9h30 à 10h: -36kgs,-40kgs,-44 kgs,-48 kgs féminins\N \N10h15 à 10h45:-50 kgs, -55kgs,-60 kgs, -66 kgs, -73 kgs et +73 kgs masculins\N \N11h à 11h30: -52 kgs,-57 kgs,-63kgs, -70 kgs, +70kgs. féminins\N 
X-ALT-DESC;FMTTYPE=text/html:<p>les minimes sont placés par poules de 4.</p><p>C'est une phase de sélection pour les championnats du Finistère.</p><p>arrivée 15 minutes avant le début de pesée.</p><p>casse croûte, eau, survêtement, zooris ou claquettes indispensables</p><p>sur place entre deux et trois heures</p><div><b><span style="color: #0000ff;">MINIMES:</span></b></div><div> </div><div>8h45 à 9h15: -34kgs,-38 kgs,-42 kgs,-46 kgs. masculins</div><div> </div><div>9h30 à 10h: -36kgs,-40kgs,-44 kgs,-48 kgs féminins</div><div> </div><div>10h15 à 10h45:-50 kgs, -55kgs,-60 kgs, -66 kgs, -73 kgs et +73 kgs masculins</div><div> </div><div>11h à 11h30: -52 kgs,-57 kgs,-63kgs, -70 kgs, +70kgs. féminins</div><p> </p>
LAST-MODIFIED:20231122T095242Z
SEQUENCE:5345360
LOCATION:
GEO:47.95926840;-3.82784590
X-LOCATION-DISPLAYNAME:France, Bretagne, Finistère, 29140
X-ACCESS:1
X-HITS:267
X-COLOR:cc7533
X-SHOW-END-TIME:1
END:VEVENT
BEGIN:VEVENT
DTSTART;VALUE=DATE:20240114
DTEND;VALUE=DATE:20240115
UID:CD257F9F-833C-421C-A945-800DB0EAE79E
SUMMARY:championnat Finistère individuel minimes
CREATED:20231002T192314Z
DTSTAMP:20231002T192314Z
URL:https://dojobrestois.fr/le-dojo/lagenda/championnat-finistere-individuel-minimes
DESCRIPTION:sélection faite suite au premier tournoi minime.
X-ALT-DESC;FMTTYPE=text/html:<p>sélection faite suite au premier tournoi minime.</p>
LAST-MODIFIED:20231002T192349Z
SEQUENCE:35
LOCATION:
GEO:48.18629850;-3.81285920
X-LOCATION-DISPLAYNAME:France, Bretagne, Finistère, 29520
X-ACCESS:1
X-HITS:306
X-COLOR:cc7533
X-SHOW-END-TIME:1
END:VEVENT
BEGIN:VEVENT
DTSTART;VALUE=DATE:20240128
DTEND;VALUE=DATE:20240129
UID:288B3DB2-E63B-46E6-BD2B-4A42A91ADE03
SUMMARY:championnat Finistère par équipes minimes
CREATED:20231002T192500Z
DTSTAMP:20231002T192500Z
URL:https://dojobrestois.fr/le-dojo/lagenda/championnat-finistere-par-equipes-minimes
DESCRIPTION:catégories de poids à suivre
X-ALT-DESC;FMTTYPE=text/html:<p>catégories de poids à suivre</p>
LAST-MODIFIED:20231002T192615Z
SEQUENCE:75
LOCATION:
GEO:48.43284510;-4.62298200
X-LOCATION-DISPLAYNAME:France, Bretagne, Finistère, 29290
X-ACCESS:1
X-HITS:145
X-COLOR:cc7533
X-SHOW-END-TIME:1
END:VEVENT
BEGIN:VEVENT
DTSTART;VALUE=DATE:20241120
DTEND;VALUE=DATE:20241121
UID:4E7DD3FF-0E01-4E96-8A3C-80C50C46F5C6
SUMMARY:Jason GRANDY médaillé paralympique aux JO Paris 2024 au dojo
CREATED:20241104T091114Z
DTSTAMP:20241104T091114Z
URL:https://dojobrestois.fr/le-dojo/lagenda/jason-grandy-medaille-paralympique-aux-jo-paris-2024-au-dojo
DESCRIPTION:Jason assurera tous les cours de judo de ce mercredi.\NPossibilité d'échanger avec lui.\Nprésence de 14h00 à 18h45\NVenez nombreux!\NVenez à la rencontre de ce champion!
X-ALT-DESC;FMTTYPE=text/html:<p>Jason assurera tous les cours de judo de ce mercredi.</p><p>Possibilité d'échanger avec lui.</p><p>présence de 14h00 à 18h45</p><p>Venez nombreux!</p><p>Venez à la rencontre de ce champion!</p>
LAST-MODIFIED:20241104T091114Z
SEQUENCE:0
X-ACCESS:1
X-HITS:382
X-COLOR:cc7533
X-SHOW-END-TIME:1
END:VEVENT
BEGIN:VEVENT
DTSTART;VALUE=DATE:20250126
DTEND;VALUE=DATE:20250127
UID:E75CAE6A-7808-40CF-A99A-F20341BC48A0
SUMMARY:championnat de Bretagne individuel minimes
CREATED:20250103T075445Z
DTSTAMP:20250103T075445Z
URL:https://dojobrestois.fr/le-dojo/lagenda/championnat-de-bretagne-individuel-minimes-2
DESCRIPTION:        
X-ALT-DESC;FMTTYPE=text/html:        
LAST-MODIFIED:20250103T075619Z
SEQUENCE:94
LOCATION:Allée Jean Bouin\, 29900 Concarneau\, Bretagne\, France
GEO:47.86364100;-3.90509750
X-LOCATION-DISPLAYNAME:Gymnase du Porzou
X-ACCESS:1
X-HITS:288
X-COLOR:cc7533
X-SHOW-END-TIME:1
END:VEVENT
BEGIN:VEVENT
DTSTART;VALUE=DATE:20250308
DTEND;VALUE=DATE:20250309
UID:D015779C-E239-47C4-9C2E-907EA4EFE331
SUMMARY:championnat Finistère minimes par équipes
CREATED:20250103T080438Z
DTSTAMP:20250103T080438Z
URL:https://dojobrestois.fr/le-dojo/lagenda/championnat-finistere-minimes-par-equipes
DESCRIPTION:38\N42\N46\N50\N55\N60
X-ALT-DESC;FMTTYPE=text/html:<p>38</p><p>42</p><p>46</p><p>50</p><p>55</p><p>60</p>
LAST-MODIFIED:20250303T201032Z
SEQUENCE:5141154
LOCATION:
GEO:47.95926840;-3.82784590
X-LOCATION-DISPLAYNAME:France, Bretagne, Finistère, 29140
X-ACCESS:1
X-HITS:386
X-COLOR:cc7533
X-SHOW-END-TIME:1
END:VEVENT
BEGIN:VEVENT
DTSTART;VALUE=DATE:20251108
DTEND;VALUE=DATE:20251109
UID:00426625-7D62-463B-982C-41400D856653
SUMMARY:tournoi 1 minimes
CREATED:20250918T171532Z
DTSTAMP:20250918T171532Z
URL:https://dojobrestois.fr/le-dojo/lagenda/tournoi-1-benjamins-et-tournoi-1-minimes
DESCRIPTION:benjamins nés en 2015 et 2014\Nminimes nés en 2013 et 2012\N \NHORAIRES DES PESÉESMINIMESMasculins :\N• 9h00 à 9h30 : -34 kg, -38 kg, -42 kg, -46 kg• 10h00 à 10h30 : -50 kg, -55 kg, -60 kg, -73 kg, +73 kg\NFéminines :\N• 11h30 à 12h00 : -36 kg, -40 kg, -44 kg, -48 kg, -52 kg• 12h15 à 12h45 : -57 kg, -63 kg, -70 kg, +70 kg
X-ALT-DESC;FMTTYPE=text/html:<p>benjamins nés en 2015 et 2014</p><p>minimes nés en 2013 et 2012</p><p> </p><p>HORAIRES DES PESÉES<br />MINIMES<br />Masculins :</p><p>• 9h00 à 9h30 : -34 kg, -38 kg, -42 kg, -46 kg<br />• 10h00 à 10h30 : -50 kg, -55 kg, -60 kg, -73 kg, +73 kg</p><p>Féminines :</p><p>• 11h30 à 12h00 : -36 kg, -40 kg, -44 kg, -48 kg, -52 kg<br />• 12h15 à 12h45 : -57 kg, -63 kg, -70 kg, +70 kg</p>
LAST-MODIFIED:20251103T151552Z
SEQUENCE:3967220
LOCATION:Rue des Abers\, 29860 Bourg-Blanc\, Bretagne\, France
GEO:48.49915110;-4.50604510
X-LOCATION-DISPLAYNAME:Bourg-Blanc
X-ACCESS:1
X-HITS:234
X-COLOR:cc7533
X-SHOW-END-TIME:1
END:VEVENT
BEGIN:VEVENT
DTSTART;VALUE=DATE:20251206
DTEND;VALUE=DATE:20251207
UID:17A083C5-C12C-4525-839A-9890F9D64C31
SUMMARY:championnat du Finistère minimes
CREATED:20250918T171951Z
DTSTAMP:20250918T171951Z
URL:https://dojobrestois.fr/le-dojo/lagenda/championnat-du-finistere-minimes
DESCRIPTION:Veuillez trouver ci-dessous les informations concernant le Championnat du Finistère Minimes , qui se dérouleront à la Plaine des Sports – 128 rue Laennec, 29100 Douarnenez.\NSamedi 6 décembre 2025\NCHAMPIONNAT DU FINISTÈRE MINIMES\NPesée :\N\N\N9h00 à 9h30 : -34, -38, -42 kg masculins\N\N\N10h30 à 11h00 : -46, -50 kg masculins\N\N\N11h30 à 12h00 : -36, -40, -44, -48, -52 kg féminines\N\N\N12h30 à 13h00 : -57, -63, -70, +70 kg féminines\N\N\N13h30 à 14h00 : -55, -60, -73, +73 kg masculins\N\N
X-ALT-DESC;FMTTYPE=text/html:<p>Veuillez trouver ci-dessous les informations concernant le Championnat du Finistère Minimes , qui se dérouleront à la Plaine des Sports – 128 rue Laennec, 29100 Douarnenez.</p><h3>Samedi 6 décembre 2025</h3><h4>CHAMPIONNAT DU FINISTÈRE MINIMES</h4><p>Pesée :</p><ul><li><p>9h00 à 9h30 : -34, -38, -42 kg masculins</p></li><li><p>10h30 à 11h00 : -46, -50 kg masculins</p></li><li><p>11h30 à 12h00 : -36, -40, -44, -48, -52 kg féminines</p></li><li><p>12h30 à 13h00 : -57, -63, -70, +70 kg féminines</p></li><li><p>13h30 à 14h00 : -55, -60, -73, +73 kg masculins</p></li></ul>
LAST-MODIFIED:20251118T080525Z
SEQUENCE:5237134
LOCATION:Rue Duquesne 12\, 29100 Douarnenez\, Bretagne\, France
GEO:48.09444590;-4.33112430
X-LOCATION-DISPLAYNAME:Douarnenez
X-ACCESS:1
X-HITS:220
X-COLOR:cc7533
X-SHOW-END-TIME:1
END:VEVENT
BEGIN:VEVENT
DTSTART;VALUE=DATE:20260201
DTEND;VALUE=DATE:20260202
UID:427DD9A1-0A65-4473-8D4D-C0E4ED439754
SUMMARY:championnat de Bretagne individuel minimes
CREATED:20250926T124206Z
DTSTAMP:20250926T124206Z
URL:https://dojobrestois.fr/le-dojo/lagenda/championnat-de-bretagne-individuel-minimes-3
LAST-MODIFIED:20251118T081540Z
SEQUENCE:4563214
LOCATION:
GEO:47.87570170;-3.92238890
X-LOCATION-DISPLAYNAME:France, Bretagne, Finistère, 29900
X-ACCESS:1
X-HITS:91
X-COLOR:cc7533
X-SHOW-END-TIME:1
END:VEVENT
BEGIN:VEVENT
DTSTART;VALUE=DATE:20260314
DTEND;VALUE=DATE:20260315
UID:43C20434-AD90-49ED-92F0-235860FBF449
SUMMARY:Championnat Finistère par équipes minime 
CREATED:20250926T124550Z
DTSTAMP:20250926T124550Z
URL:https://dojobrestois.fr/le-dojo/lagenda/championnat-finistere-par-equipes-minime
LAST-MODIFIED:20251118T081611Z
SEQUENCE:4563021
LOCATION:
GEO:47.95926840;-3.82784590
X-LOCATION-DISPLAYNAME:France, Bretagne, Finistère, 29140
X-ACCESS:1
X-HITS:214
X-COLOR:cc7533
X-SHOW-END-TIME:1
END:VEVENT
END:VCALENDAR